0.1
0
0
-0.1
651470.774213663
4746325.69079314
