0.1
0
0
-0.1
652321.854448425
4746344.65137821
