0.1
0
0
-0.1
651496.348353881
4745169.03672627
