0.1
0
0
-0.1
652347.571916758
4745188.00098563
