0.1
0
0
-0.1
655739.323048613
4745842.80762245
