0.1
0
0
-0.1
658319.519837865
4744744.52384769
