0.1
0
0
-0.1
652373.283196924
4744031.34967066
