0.1
0
0
-0.1
654076.017431524
4744069.28407048
