0.1
0
0
-0.1
657481.516063971
4744146.60236447
