0.1
0
0
-0.1
655791.907882268
4743529.50415769
