0.1
0
0
-0.1
657494.805494995
4743568.26704835
