0.1
0
0
-0.1
610137.671281569
4668023.84632355
