0.1
0
0
-0.1
610146.73943076
4667445.56170151
