0.1
0
0
-0.1
611840.533923297
4669207.50330296
