0.1
0
0
-0.1
612719.593372246
4668064.79747479
