0.1
0
0
-0.1
612738.147680665
4666908.23226393
