0.1
0
0
-0.1
614469.122648151
4666357.68795411
