0.1
0
0
-0.1
615339.455564335
4665793.48586341
