0.1
0
0
-0.1
615348.93823934
4665215.20658551
