0.1
0
0
-0.1
614497.360281134
4664622.84724629
