0.1
0
0
-0.1
613645.64289216
4664030.6934882
