0.1
0
0
-0.1
615358.420915789
4664636.92680544
