0.1
0
0
-0.1
616219.484546474
4664651.21286386
