0.1
0
0
-0.1
613673.660021993
4662295.86964707
