0.1
0
0
-0.1
624422.954107322
4735367.96622172
