0.1
0
0
-0.1
589294.073517203
4748704.39407939
