0.1
0
0
-0.1
590995.430372386
4748726.90462272
