0.1
0
0
-0.1
590152.383812805
4748137.18549521
