0.1
0
0
-0.1
591853.88696391
4748159.90981103
