0.1
0
0
-0.1
592728.169482053
4746436.19186014
