0.1
0
0
-0.1
594406.112854717
4748194.63340438
