0.1
0
0
-0.1
593571.212867146
4747026.125181
