0.1
0
0
-0.1
593579.127570214
4746447.76406562
