0.1
0
0
-0.1
594438.06615197
4745881.19455873
