0.1
0
0
-0.1
586123.429165534
4730153.79265607
