0.1
0
0
-0.1
582746.386734731
4727220.24419801
