0.1
0
0
-0.1
585291.974684254
4728408.26175018
