0.1
0
0
-0.1
586998.29954286
4728429.50856495
