0.1
0
0
-0.1
609169.017766889
4674949.80899661
