0.1
0
0
-0.1
610056.036070728
4673228.39336019
