0.1
0
0
-0.1
608344.967174527
4672623.22726194
