0.1
0
0
-0.1
611776.042495207
4673255.47918585
