0.1
0
0
-0.1
612636.048215647
4673269.33849972
