0.1
0
0
-0.1
611812.902947104
4670942.33911219
