0.1
0
0
-0.1
611822.114062896
4670364.06121334
