0.1
0
0
-0.1
612682.473899135
4670377.92269609
