0.100000679043704
0
0
-0.100000679043704
612799.327389186
4670008.75770714
