0.1
0
0
-0.1
610934.33253677
4672085.25195895
