0.1
0
0
-0.1
611794.476718859
4672098.89990337
