0.1
0
0
-0.1
609223.047457359
4671480.09238333
